BEGIN:VCALENDAR
VERSION:2.0
PRODID:-//postgresqleu/confreg//NONSGML v1.0//EN
BEGIN:VEVENT
UID:33@pgdu2019
DTSTART:20191114T213000Z
DTEND:20191114T220000Z
DTSTAMP:20191012T094305Z
SUMMARY:Registration ()
LOCATION:Foyer
URL:https://pgdu.org/events/pgdu2019/schedule/session/33/
END:VEVENT
BEGIN:VEVENT
UID:28@pgdu2019
DTSTART:20191114T220000Z
DTEND:20191114T224000Z
DTSTAMP:20191015T232439Z
SUMMARY:Keynote - PostgreSQL v12 and Beyond! (Stephen Frost)
LOCATION:Conference Room
URL:https://pgdu.org/events/pgdu2019/schedule/session/28/
END:VEVENT
BEGIN:VEVENT
UID:19@pgdu2019
DTSTART:20191114T224500Z
DTEND:20191114T232500Z
DTSTAMP:20191015T220955Z
SUMMARY:Introduction to Query Planning and Execution (Thomas Munro)
LOCATION:Conference Room
URL:https://pgdu.org/events/pgdu2019/schedule/session/19/
END:VEVENT
BEGIN:VEVENT
UID:34@pgdu2019
DTSTART:20191114T232500Z
DTEND:20191114T234500Z
DTSTAMP:20191015T220956Z
SUMMARY:Morning Tea ()
LOCATION:Foyer
URL:https://pgdu.org/events/pgdu2019/schedule/session/34/
END:VEVENT
BEGIN:VEVENT
UID:22@pgdu2019
DTSTART:20191114T234000Z
DTEND:20191115T002000Z
DTSTAMP:20191015T220956Z
SUMMARY:Not interested in spatial data? Let me change your mind! (Gary Evans)
LOCATION:Conference Room
URL:https://pgdu.org/events/pgdu2019/schedule/session/22/
END:VEVENT
BEGIN:VEVENT
UID:23@pgdu2019
DTSTART:20191115T002500Z
DTEND:20191115T010500Z
DTSTAMP:20191015T220956Z
SUMMARY:8 PostgreSQL Performance Tips &amp; Techniques (Hari P Kiran)
LOCATION:Conference Room
URL:https://pgdu.org/events/pgdu2019/schedule/session/23/
END:VEVENT
BEGIN:VEVENT
UID:36@pgdu2019
DTSTART:20191115T010500Z
DTEND:20191115T020000Z
DTSTAMP:20191015T220956Z
SUMMARY:Lunch ()
LOCATION:Foyer
URL:https://pgdu.org/events/pgdu2019/schedule/session/36/
END:VEVENT
BEGIN:VEVENT
UID:24@pgdu2019
DTSTART:20191115T020000Z
DTEND:20191115T024000Z
DTSTAMP:20191015T220956Z
SUMMARY:Table Partitioning in PostgreSQL (David Rowley)
LOCATION:Conference Room
URL:https://pgdu.org/events/pgdu2019/schedule/session/24/
END:VEVENT
BEGIN:VEVENT
UID:18@pgdu2019
DTSTART:20191115T024500Z
DTEND:20191115T032500Z
DTSTAMP:20191015T220956Z
SUMMARY:Postgres on PaaS (Phil Allsopp)
LOCATION:Conference Room
URL:https://pgdu.org/events/pgdu2019/schedule/session/18/
END:VEVENT
BEGIN:VEVENT
UID:35@pgdu2019
DTSTART:20191115T032500Z
DTEND:20191115T034500Z
DTSTAMP:20191015T220956Z
SUMMARY:Afternoon Tea ()
LOCATION:Foyer
URL:https://pgdu.org/events/pgdu2019/schedule/session/35/
END:VEVENT
BEGIN:VEVENT
UID:30@pgdu2019
DTSTART:20191115T034000Z
DTEND:20191115T042000Z
DTSTAMP:20191019T024345Z
SUMMARY:Enterprise Authentication with PostgreSQL (Stephen Frost)
LOCATION:Conference Room
URL:https://pgdu.org/events/pgdu2019/schedule/session/30/
END:VEVENT
BEGIN:VEVENT
UID:17@pgdu2019
DTSTART:20191115T042500Z
DTEND:20191115T050500Z
DTSTAMP:20191015T232439Z
SUMMARY:Patterns and Packages in PostgreSQL for Privacy Preservation (Atif Rahman)
LOCATION:Conference Room
URL:https://pgdu.org/events/pgdu2019/schedule/session/17/
END:VEVENT
BEGIN:VEVENT
UID:37@pgdu2019
DTSTART:20191115T051000Z
DTEND:20191115T054000Z
DTSTAMP:20191015T220956Z
SUMMARY:Panel Discussion / Open Forum ()
LOCATION:Conference Room
URL:https://pgdu.org/events/pgdu2019/schedule/session/37/
END:VEVENT
BEGIN:VEVENT
UID:38@pgdu2019
DTSTART:20191115T054000Z
DTEND:20191115T060000Z
DTSTAMP:20191015T220956Z
SUMMARY:Closing Remarks / General Meeting ()
LOCATION:Conference Room
URL:https://pgdu.org/events/pgdu2019/schedule/session/38/
END:VEVENT
BEGIN:VEVENT
UID:39@pgdu2019
DTSTART:20191115T060000Z
DTEND:20191115T073000Z
DTSTAMP:20191015T220956Z
SUMMARY:Drinks and Canapes ()
LOCATION:Conference Room
URL:https://pgdu.org/events/pgdu2019/schedule/session/39/
END:VEVENT
END:VCALENDAR
